BEGIN:VCALENDAR
VERSION:2.0
PRODID:-//Squarespace Inc/Squarespace 6//v6//EN
BEGIN:VEVENT
UID:537498a6e4b095f55e71cda5@squarespace.com
DTSTAMP:20140812T081253Z
DTSTART:20140825T230000Z
DTEND:20140826T030000Z
SUMMARY:Precision Livestock Management - is it worth it? (Clare\, SA)
GEO:-33.74475;138.560892
LOCATION:Bungaree Station\, Mount Tinline Rd\, Bungaree\, SA\, 5464\, Austr
 alia
END:VEVENT
END:VCALENDAR
