BEGIN:VCALENDAR
VERSION:2.0
PRODID:-//Squarespace Inc/Squarespace 6//v6//EN
BEGIN:VEVENT
UID:597587d53e00be4843f12f65@squarespace.com
DTSTAMP:20180205T043016Z
DTSTART:20171004T093000Z
DTEND:20171004T103000Z
SUMMARY:Achieving massive lamb growth rates - Webinar
GEO:-25.274398;133.775136
LOCATION:Australia
END:VEVENT
END:VCALENDAR
