BEGIN:VCALENDAR
VERSION:2.0
PRODID:-//Squarespace Inc/Squarespace 6//v6//EN
BEGIN:VEVENT
UID:5a0d24f49140b751033aaaf8@squarespace.com
DTSTAMP:20171116T061741Z
DTSTART:20170829T230000Z
DTEND:20170830T033000Z
SUMMARY:Technology in sheep enterprises - An introduction
GEO:-36.092488;140.347216
LOCATION:Keith\, SA\, 5267\, Australia
END:VEVENT
END:VCALENDAR
