BEGIN:VCALENDAR
VERSION:2.0
PRODID:-//Squarespace Inc/Squarespace 6//v6//EN
BEGIN:VEVENT
UID:5a0d2e3df9619aada9506135@squarespace.com
DTSTAMP:20171116T062515Z
DTSTART:20170914T043000Z
DTEND:20170914T080000Z
SUMMARY:UNFS 2017 Eastern Spring Crop Walk
GEO:-32.859331;138.358909
LOCATION:Booleroo Centre District\, Booleroo\, SA\, 5482\, Australia
END:VEVENT
END:VCALENDAR
