BEGIN:VCALENDAR
VERSION:2.0
PRODID:-//Squarespace Inc/Squarespace 6//v6//EN
BEGIN:VEVENT
UID:5a0be306652dea776ab8a8d9@squarespace.com
DTSTAMP:20171115T070537Z
DTSTART:20170615T040000Z
DTEND:20170615T080000Z
SUMMARY:Dry Start Forums: Maximising returns despite a dry start - Wudinna
GEO:-33.047519;135.461873
LOCATION:Wudinna Community Club\, Wudinna\, SA\, 5652\, Australia
END:VEVENT
END:VCALENDAR
