BEGIN:VCALENDAR
VERSION:2.0
PRODID:-//Squarespace Inc/Squarespace 6//v6//EN
BEGIN:VEVENT
UID:5a0be7d80d9297328daac3ad@squarespace.com
DTSTAMP:20171115T071446Z
DTSTART:20170620T233000Z
DTEND:20170621T033000Z
SUMMARY:BUILDING LANDHOLDER MANAGEMENT FOR WEEDS
GEO:-34.268542;135.722947
LOCATION:Paskeville Football Club\, Paskeville Oval\, Paskeville\, SA\, 555
 2\, Australia
END:VEVENT
END:VCALENDAR
