BEGIN:VCALENDAR
VERSION:2.0
PRODID:-//Squarespace Inc/Squarespace 6//v6//EN
BEGIN:VEVENT
UID:5906c545d482e95dce7684f9@squarespace.com
DTSTAMP:20170501T082720Z
DTSTART:20170510T103000Z
DTEND:20170510T113000Z
SUMMARY:WORKING WITH THE SEASON TO BOOST PRODUCTION WEBINAR
END:VEVENT
END:VCALENDAR
