BEGIN:VCALENDAR
VERSION:2.0
PRODID:-//Squarespace Inc/Squarespace 6//v6//EN
BEGIN:VEVENT
UID:587479af46c3c4529ef3a158@squarespace.com
DTSTAMP:20170110T060648Z
DTSTART:20170302T021000Z
DTEND:20170302T050000Z
SUMMARY:Animal Health and Breeding - Clare
GEO:-33.839799;138.612751
LOCATION:CLARE\, SA\, 5453\, Australia
END:VEVENT
END:VCALENDAR
