BEGIN:VCALENDAR
VERSION:2.0
PRODID:-//Squarespace Inc/Squarespace 6//v6//EN
BEGIN:VEVENT
UID:5a0bd22753450ae4776f7f3a@squarespace.com
DTSTAMP:20171115T054050Z
DTSTART:20170316T223000Z
DTEND:20170316T233000Z
SUMMARY:YPASG Livestock workshop - Nutrition for profit
GEO:-34.771389;137.595556
LOCATION:Minlaton\, SA\, 5575
END:VEVENT
END:VCALENDAR
