BEGIN:VCALENDAR
VERSION:2.0
PRODID:-//Squarespace Inc/Squarespace 6//v6//EN
BEGIN:VEVENT
UID:58afdd8d1b631bb7fa67d690@squarespace.com
DTSTAMP:20170309T065725Z
DTSTART:20170314T230000Z
DTEND:20170315T030000Z
SUMMARY:FREE GRASSY WEED WORKSHOP - Orroroo
GEO:-32.674307;138.63231
LOCATION:Blacksmiths Chatter\, Orroroo\, SA\, Australia
END:VEVENT
END:VCALENDAR
