BEGIN:VCALENDAR
VERSION:2.0
PRODID:-//Squarespace Inc/Squarespace 6//v6//EN
BEGIN:VEVENT
UID:58afd35fbe659418cfc9e1ac@squarespace.com
DTSTAMP:20170228T065936Z
DTSTART:20170314T020000Z
DTEND:20170314T060000Z
SUMMARY:FREE GRASSY WEEDS WORKSHOP - Napperby
GEO:-33.168635;138.117887
LOCATION:Napperby Tennis Club\, Napperby\, SA\, 5540\, Australia
END:VEVENT
END:VCALENDAR
