BEGIN:VCALENDAR
VERSION:2.0
PRODID:-//Squarespace Inc/Squarespace 6//v6//EN
BEGIN:VEVENT
UID:5a71621d9140b79f3b8335e3@squarespace.com
DTSTAMP:20180131T070148Z
DTSTART:20180205T220000Z
DTEND:20180206T020000Z
SUMMARY:MAKING PROFIT FROM SHEEP AND BEEF - TAMBELLUP
GEO:-34.04586;117.634683
LOCATION:Tambellup\, WA\, AUSTRALIA
END:VEVENT
END:VCALENDAR
