BEGIN:VCALENDAR
VERSION:2.0
PRODID:-//Squarespace Inc/Squarespace 6//v6//EN
BEGIN:VEVENT
UID:5a716b878165f58f169b0aa6@squarespace.com
DTSTAMP:20180131T071843Z
DTSTART:20180207T220000Z
DTEND:20180208T020000Z
SUMMARY:MAKING PROFIT FROM SHEEP AND BEEF - CALINGIRI
GEO:-34.04586;117.634683
LOCATION:Calingiri\, WA\, AUSTRALIA
END:VEVENT
END:VCALENDAR
