BEGIN:VCALENDAR
VERSION:2.0
PRODID:-//Squarespace Inc/Squarespace 6//v6//EN
BEGIN:VEVENT
UID:5a7169dc0d9297b0584434d4@squarespace.com
DTSTAMP:20180131T070222Z
DTSTART:20180206T220000Z
DTEND:20180207T020000Z
SUMMARY:MAKING PROFIT FROM SHEEP AND BEEF - WICKEPIN
GEO:-34.04586;117.634683
LOCATION:Wickepin\, WA\, AUSTRALIA
END:VEVENT
END:VCALENDAR
