BEGIN:VCALENDAR
VERSION:2.0
PRODID:-//Squarespace Inc/Squarespace 6//v6//EN
BEGIN:VEVENT
UID:587337bf6b8f5bb8e96da253@squarespace.com
DTSTAMP:20170130T052410Z
DTSTART:20170201T220000Z
DTEND:20170202T020000Z
SUMMARY:MAKING PROFIT FROM SHEEP AND BEEF - SNOWTOWN
GEO:-33.783082;138.215821
LOCATION:Snowtown Football Club\, SNOWTOWN\, SA\, AUSTRALIA
END:VEVENT
END:VCALENDAR
