BEGIN:VCALENDAR
VERSION:2.0
PRODID:-//Squarespace Inc/Squarespace 6//v6//EN
BEGIN:VEVENT
UID:56cd7588cf80a1db1522b7a1@squarespace.com
DTSTAMP:20160225T064820Z
DTSTART:20160307T223000Z
DTEND:20160308T050000Z
SUMMARY:Sheep Industry Technology Day - Burra
GEO:-33.676325;138.941224
LOCATION:Burra Oval\, Burra\, SA
END:VEVENT
END:VCALENDAR
