BEGIN:VCALENDAR
VERSION:2.0
PRODID:-//Squarespace Inc/Squarespace 6//v6//EN
BEGIN:VEVENT
UID:56a70fccab2810f87b8ba6c6@squarespace.com
DTSTAMP:20160302T062656Z
DTSTART:20160302T220000Z
DTEND:20160303T043000Z
SUMMARY:Grazing Native Pastures Workshop
GEO:-34.025284;138.685574
LOCATION:Auburn\, SA\, 5451\, Australia
END:VEVENT
END:VCALENDAR
