BEGIN:VCALENDAR
VERSION:2.0
PRODID:-//Squarespace Inc/Squarespace 6//v6//EN
BEGIN:VEVENT
UID:55f1482be4b0729a512834b5@squarespace.com
DTSTAMP:20150925T060403Z
DTSTART:20150927T230000Z
DTEND:20150928T060000Z
SUMMARY:Grazing Native Pastures Workshop
GEO:-34.008175;138.642562
LOCATION:"Greenwood Park"\, Greenwood Park Road\, Auburn\, SA\, 5451\, Aust
 ralia
END:VEVENT
END:VCALENDAR
