BEGIN:VCALENDAR
VERSION:2.0
PRODID:-//Squarespace Inc/Squarespace 6//v6//EN
BEGIN:VEVENT
UID:55f7cf32e4b0b3688a6e917f@squarespace.com
DTSTAMP:20150915T080951Z
DTSTART:20150915T003000Z
DTEND:20150915T060000Z
SUMMARY:Hart Field Day 2015
GEO:-33.756265;138.438893
LOCATION:Hart Site\, Hart\, SA
END:VEVENT
END:VCALENDAR
