BEGIN:VCALENDAR
VERSION:2.0
PRODID:-//Squarespace Inc/Squarespace 6//v6//EN
BEGIN:VEVENT
UID:55acc6cee4b0046120822ce2@squarespace.com
DTSTAMP:20150721T014231Z
DTSTART:20150805T233000Z
DTEND:20150806T073000Z
SUMMARY:Upper North Farming Systems Annual Field Day
GEO:-32.881106;138.349585
LOCATION:Booleroo Centre Town Hall\, Booleroo Centre\, South Australia
END:VEVENT
END:VCALENDAR
