BEGIN:VCALENDAR
VERSION:2.0
PRODID:-//Squarespace Inc/Squarespace 6//v6//EN
BEGIN:VEVENT
UID:54c709fae4b05d1a1cc7a8b7@squarespace.com
DTSTAMP:20150205T074253Z
DTSTART:20150410T000000Z
DTEND:20150410T070000Z
SUMMARY:The Elders Victoria Sire Evaluation Group Field Day
END:VEVENT
END:VCALENDAR
