BEGIN:VCALENDAR
VERSION:2.0
PRODID:-//Squarespace Inc/Squarespace 6//v6//EN
BEGIN:VEVENT
UID:5503d70ce4b01b33c96cdfd1@squarespace.com
DTSTAMP:20150314T064544Z
DTSTART:20150326T220000Z
DTEND:20150327T063000Z
SUMMARY:More Beef from Pastures Beef Innovation Day 
GEO:-37.074629;140.776807
LOCATION:Struan Research Centre\, 74 Struan House Rd\, Naracoorte SA
END:VEVENT
END:VCALENDAR
