BEGIN:VCALENDAR
VERSION:2.0
PRODID:-//Squarespace Inc/Squarespace 6//v6//EN
BEGIN:VEVENT
UID:54c7060ae4b084e11304d9fe@squarespace.com
DTSTAMP:20150205T074100Z
DTSTART:20150218T230000Z
DTEND:20150219T060000Z
SUMMARY:Precision Agriculture Day - Upper North Farming Systems 
GEO:-32.73222;138.614404
LOCATION:Blacksmith Chatter\, 7 First St\, Orroroo\, Australia
END:VEVENT
END:VCALENDAR
