BEGIN:VCALENDAR
VERSION:2.0
PRODID:-//Squarespace Inc/Squarespace 6//v6//EN
BEGIN:VEVENT
UID:54d31a1ce4b041485a1b7d98@squarespace.com
DTSTAMP:20150205T073127Z
DTSTART:20150209T213000Z
DTEND:20150210T043000Z
SUMMARY:GRDC Grains Research Update for Advisers (Adelaide)
GEO:-34.92143;138.601166
LOCATION:North Terrace\, Adelaide\, SA\, Australia
END:VEVENT
END:VCALENDAR
