BEGIN:VCALENDAR
VERSION:2.0
PRODID:-//Squarespace Inc/Squarespace 6//v6//EN
BEGIN:VEVENT
UID:56306c64e4b094d30b609993@squarespace.com
DTSTAMP:20151028T071214Z
DTSTART:20151105T233000Z
DTEND:20151106T003000Z
SUMMARY:Lucindale Pasture Update
GEO:-36.972354;140.370085
LOCATION:Lucindale Memorial Hall
END:VEVENT
END:VCALENDAR
