BEGIN:VCALENDAR
VERSION:2.0
PRODID:-//Squarespace Inc/Squarespace 6//v6//EN
BEGIN:VEVENT
UID:560a47e3e4b01b8d0ebf4ff9@squarespace.com
DTSTAMP:20150929T083914Z
DTSTART:20151001T224500Z
DTEND:20151002T030000Z
SUMMARY:Upper North Farming Systems Sheep Nutrition and Management Workshop
GEO:-33.102175;138.472395
LOCATION:Don Bottrall’s Sheering Shed\, 448 Bottrall Drive\, Appila\, SA\, 
 5480\, Australia
END:VEVENT
END:VCALENDAR
