BEGIN:VCALENDAR
VERSION:2.0
PRODID:-//Squarespace Inc/Squarespace 6//v6//EN
BEGIN:VEVENT
UID:56175ba9e4b0caf391216143@squarespace.com
DTSTAMP:20151009T065249Z
DTSTART:20151013T043000Z
DTEND:20151013T080000Z
SUMMARY:Precision Livestock Management Workshop and MLA Sub Clover Root Dis
 ease Program
GEO:-36.97282;140.366724
LOCATION:Lucindale Hotel\, 20 Musgrave Ave\, Lucindale\, SA\, 5272\, Austra
 lia
END:VEVENT
END:VCALENDAR
