BEGIN:VCALENDAR
VERSION:2.0
PRODID:-//Squarespace Inc/Squarespace 6//v6//EN
BEGIN:VEVENT
UID:5407f432e4b007c79840420e@squarespace.com
DTSTAMP:20140904T052636Z
DTSTART:20140907T233000Z
DTEND:20140912T003000Z
SUMMARY:International Symposium on Ruminant Nutrition and Physiology
GEO:-35.282;149.128684
LOCATION:Canberra
END:VEVENT
END:VCALENDAR
