BEGIN:VCALENDAR
VERSION:2.0
PRODID:-//Squarespace Inc/Squarespace 6//v6//EN
BEGIN:VEVENT
UID:538e6e91e4b0e323202341cf@squarespace.com
DTSTAMP:20140604T032319Z
DTSTART:20140606T030000Z
DTEND:20140606T034500Z
SUMMARY:Weaning using a high starch diet for rumen development
END:VEVENT
END:VCALENDAR
