BEGIN:VCALENDAR
VERSION:2.0
PRODID:-//Squarespace Inc/Squarespace 6//v6//EN
BEGIN:VEVENT
UID:5420ac11e4b0e2c1597527bc@squarespace.com
DTSTAMP:20141009T222740Z
DTSTART:20141027T223000Z
DTEND:20141029T053000Z
SUMMARY:Using eID in Sheep Management and Breeding (Clare\, SA)
GEO:-33.833258;138.611852
LOCATION:Clare
END:VEVENT
END:VCALENDAR
